BEGIN:VCALENDAR
VERSION:2.0
PRODID:-//ChamberMaster//Event Calendar 2.0//EN
METHOD:PUBLISH
X-PUBLISHED-TTL:P1H
REFRESH-INTERVAL:P1H
CALSCALE:GREGORIAN
BEGIN:VTIMEZONE
TZID:America/New_York
BEGIN:DAYLIGHT
RRULE:FREQ=YEARLY;BYMONTH=3;BYDAY=2SU
DTSTART:20070101T000000
TZOFFSETFROM:-0500
TZOFFSETTO:-0400
TZNAME:Eastern Daylight Time
END:DAYLIGHT
BEGIN:STANDARD
RRULE:FREQ=YEARLY;BYMONTH=11;BYDAY=1SU
DTSTART:20070101T000000
TZOFFSETFROM:-0400
TZOFFSETTO:-0500
TZNAME:Eastern Standard Time
END:STANDARD
END:VTIMEZONE
BEGIN:VEVENT
DTSTART;TZID=America/New_York:20260701T110000
DTEND;TZID=America/New_York:20260701T113000
X-MICROSOFT-CDO-ALLDAYEVENT:FALSE
SUMMARY:Spotless Exterior Care Service Launch/Ribbon Cutting
DESCRIPTION:Join us to celebrate 3 years in business AND the launch of our Complete Property Maintenance Coordination service! We will be presenting at 1 Million Cups Ocala at 9:30 AM in the Incubator's upstairs training room\, and then afterwards will be cutting a ribbon in celebration.
X-ALT-DESC;FMTTYPE=text/html:<!DOCTYPE html><html><head><title></title></head><body aria-disabled="false"><p>Join us to celebrate 3 years in business AND the launch of our Complete Property Maintenance Coordination service! We will be presenting at 1 Million Cups Ocala at 9:30 AM in the Incubator&#39\;s upstairs training room\, and then afterwards will be cutting a ribbon in celebration.</p></body></html>
LOCATION:405 SE Osceola Ave Ocala FL 34471
UID:e.3532.1439316
SEQUENCE:3
DTSTAMP:20260420T183835Z
URL:https://members.belleviewcep.com/eventcalendar/Details/spotless-exterior-care-service-launch-ribbon-cutting-1703715?sourceTypeId=Hub
END:VEVENT
END:VCALENDAR
