BEGIN:VCALENDAR
VERSION:2.0
PRODID:-//ChamberMaster//Event Calendar 2.0//EN
METHOD:PUBLISH
X-PUBLISHED-TTL:P1H
REFRESH-INTERVAL:P1H
CALSCALE:GREGORIAN
BEGIN:VTIMEZONE
TZID:America/New_York
BEGIN:DAYLIGHT
RRULE:FREQ=YEARLY;BYMONTH=3;BYDAY=2SU
DTSTART:20070101T000000
TZOFFSETFROM:-0500
TZOFFSETTO:-0400
TZNAME:Eastern Daylight Time
END:DAYLIGHT
BEGIN:STANDARD
RRULE:FREQ=YEARLY;BYMONTH=11;BYDAY=1SU
DTSTART:20070101T000000
TZOFFSETFROM:-0400
TZOFFSETTO:-0500
TZNAME:Eastern Standard Time
END:STANDARD
END:VTIMEZONE
BEGIN:VEVENT
DTSTART;TZID=America/New_York:20260521T080000
DTEND;TZID=America/New_York:20260521T090000
X-MICROSOFT-CDO-ALLDAYEVENT:FALSE
SUMMARY:SCORE: Understanding People\, Driving Results: How DISC Improves Communication and Team
DESCRIPTION:Learning Objectives By the end of this session\, participants will be able to: 1. Understand the Four DISC Personality Styles   Identify the core characteristics of Dominance\, Influence\, Steadiness\, and Conscientiousness   Recognize how each style communicates\, makes decisions\, and responds to challenges 2. Improve Communication Across Different Styles   Adapt communication approaches to connect more effectively with each DISC style   Reduce misunderstandings by recognizing behavioral preferences and triggers   Increase clarity\, engagement\, and alignment within teams 3. Resolve and Prevent Workplace Conflict   Identify the root causes of conflict based on personality differences   Apply DISC-based strategies to de-escalate tension and foster mutual respect 4. Build Stronger\, More Collaborative Teams   Leverage the strengths of each DISC style to improve team performance   Create an environment where diverse personalities work together effectively 5. Enhance Leadership Effectiveness   Develop greater self-awareness and emotional intelligence   Adjust leadership style to better motivate\, engage\, and retain employees   Lead with intention\, clarity\, and impact 6. Drive Organizational Results   Improve employee engagement and morale   Increase productivity through better communication and alignment   Reduce costly turnover driven by leadership and communication breakdownsRegister: https://www.score.org/orlando/event/understanding-people-driving-results-how-disc-improves-communication-and-team
X-ALT-DESC;FMTTYPE=text/html:<!DOCTYPE html><html><head><title></title></head><body aria-disabled="false"><p>Learning Objectives By the end of this session\, participants will be able to: 1. Understand the Four DISC Personality Styles &bull\; Identify the core characteristics of Dominance\, Influence\, Steadiness\, and Conscientiousness &bull\; Recognize how each style communicates\, makes decisions\, and responds to challenges 2. Improve Communication Across Different Styles &bull\; Adapt communication approaches to connect more effectively with each DISC style &bull\; Reduce misunderstandings by recognizing behavioral preferences and triggers &bull\; Increase clarity\, engagement\, and alignment within teams 3. Resolve and Prevent Workplace Conflict &bull\; Identify the root causes of conflict based on personality differences &bull\; Apply DISC-based strategies to de-escalate tension and foster mutual respect 4. Build Stronger\, More Collaborative Teams &bull\; Leverage the strengths of each DISC style to improve team performance &bull\; Create an environment where diverse personalities work together effectively 5. Enhance Leadership Effectiveness &bull\; Develop greater self-awareness and emotional intelligence &bull\; Adjust leadership style to better motivate\, engage\, and retain employees &bull\; Lead with intention\, clarity\, and impact 6. Drive Organizational Results &bull\; Improve employee engagement and morale &bull\; Increase productivity through better communication and alignment &bull\; Reduce costly turnover driven by leadership and communication breakdowns</p><p>Register:&nbsp\;<a fr-original-style="" href="https://www.score.org/orlando/event/understanding-people-driving-results-how-disc-improves-communication-and-team" style="user-select: auto\;">https://www.score.org/orlando/event/understanding-people-driving-results-how-disc-improves-communication-and-team</a></p></body></html>
LOCATION:
UID:e.3532.1431385
SEQUENCE:3
DTSTAMP:20260420T183823Z
URL:https://members.belleviewcep.com/eventcalendar/Details/score-understanding-people-driving-results-how-disc-improves-communication-and-team-1694021?sourceTypeId=Hub
END:VEVENT
END:VCALENDAR
