BEGIN:VCALENDAR
VERSION:2.0
PRODID:-//ChamberMaster//Event Calendar 2.0//EN
METHOD:PUBLISH
X-PUBLISHED-TTL:P1H
REFRESH-INTERVAL:P1H
CALSCALE:GREGORIAN
BEGIN:VTIMEZONE
TZID:America/New_York
BEGIN:DAYLIGHT
RRULE:FREQ=YEARLY;BYMONTH=3;BYDAY=2SU
DTSTART:20070101T000000
TZOFFSETFROM:-0500
TZOFFSETTO:-0400
TZNAME:Eastern Daylight Time
END:DAYLIGHT
BEGIN:STANDARD
RRULE:FREQ=YEARLY;BYMONTH=11;BYDAY=1SU
DTSTART:20070101T000000
TZOFFSETFROM:-0400
TZOFFSETTO:-0500
TZNAME:Eastern Standard Time
END:STANDARD
END:VTIMEZONE
BEGIN:VEVENT
DTSTART;TZID=America/New_York:20260521T120000
DTEND;TZID=America/New_York:20260521T133000
X-MICROSOFT-CDO-ALLDAYEVENT:FALSE
SUMMARY:SCORE: Top 5 Reasons Banks Deny Business Loan Requests
DESCRIPTION:Banks deny more than 80% of small business funding requests and nearly 90% of start-up requests. But why? Come learn the top five reasons why your small business loan request was (or will be) rejected and more importantly\, how to prepare yourself and your small business (including start-ups) to actually get funded. Join business loan broker Boyd Karren\, of Otro Financial\, for this informative look at what banks and alternative lenders look for when considering your request\, and the options that may still be available to you even if your loan request has already been rejected by a bank.Register: https://www.score.org/orlando/event/top-5-reasons-banks-deny-business-loan-requests-4
X-ALT-DESC;FMTTYPE=text/html:<!DOCTYPE html><html><head><title></title></head><body aria-disabled="false"><p>Banks deny more than 80% of small business funding requests and nearly 90% of start-up requests. But why? Come learn the top five reasons why your small business loan request was (or will be) rejected and more importantly\, how to prepare yourself and your small business (including start-ups) to actually get funded. Join business loan broker Boyd Karren\, of Otro Financial\, for this informative look at what banks and alternative lenders look for when considering your request\, and the options that may still be available to you even if your loan request has already been rejected by a bank.</p><p>Register:&nbsp\;<a fr-original-style="" href="https://www.score.org/orlando/event/top-5-reasons-banks-deny-business-loan-requests-4" style="user-select: auto\;">https://www.score.org/orlando/event/top-5-reasons-banks-deny-business-loan-requests-4</a></p></body></html>
LOCATION:
UID:e.3532.1431386
SEQUENCE:3
DTSTAMP:20260420T184017Z
URL:https://members.belleviewcep.com/eventcalendar/Details/score-top-5-reasons-banks-deny-business-loan-requests-1694022?sourceTypeId=Hub
END:VEVENT
END:VCALENDAR
