BEGIN:VCALENDAR
VERSION:2.0
PRODID:-//ChamberMaster//Event Calendar 2.0//EN
METHOD:PUBLISH
X-PUBLISHED-TTL:P1H
REFRESH-INTERVAL:P1H
CALSCALE:GREGORIAN
BEGIN:VTIMEZONE
TZID:America/New_York
BEGIN:DAYLIGHT
RRULE:FREQ=YEARLY;BYMONTH=3;BYDAY=2SU
DTSTART:20070101T000000
TZOFFSETFROM:-0500
TZOFFSETTO:-0400
TZNAME:Eastern Daylight Time
END:DAYLIGHT
BEGIN:STANDARD
RRULE:FREQ=YEARLY;BYMONTH=11;BYDAY=1SU
DTSTART:20070101T000000
TZOFFSETFROM:-0400
TZOFFSETTO:-0500
TZNAME:Eastern Standard Time
END:STANDARD
END:VTIMEZONE
BEGIN:VEVENT
DTSTART;TZID=America/New_York:20260519T180000
DTEND;TZID=America/New_York:20260519T193000
X-MICROSOFT-CDO-ALLDAYEVENT:FALSE
SUMMARY:SCORE: The Art of Nonprofit Delegation
DESCRIPTION:For many nonprofit leaders\, letting go of day-to-day tasks can feel uncomfortable\, even when it's necessary.Whether your team is made up of staff\, volunteers\, or a mix of both\, mastering the art of delegation is essential for reducing burnout\, strengthening your organization\, and focusing on the work that truly requires your leadership.In this engaging and practical session\, nonprofit consultant Cheryl Smith will guide Executive Directors through proven strategies for delegating with confidence. Participants will learn how to decide what to delegate\, assign responsibilities to the right people\, and set expectations in a way that builds trust and maintains quality. The result: a stronger team\, more time for strategic priorities\, and less stress for you.Participants Will Learn How To:Understand the personal and organizational benefits of healthy delegationIdentify which tasks to keep and which to hand off using a simple decision-making frameworkMatch responsibilities to staff or volunteers based on skills\, capacity\, and motivationProvide clear instructions\, timelines\, and accountability without micromanagingUse practical scripts to make delegation feel supportive rather than burdensomeOvercome guilt and the fear of losing control when handing off workBuild a culture where delegation is seen as an opportunity for growth\, not a choreRegister: https://www.score.org/jacksonville/event/art-nonprofit-delegation
X-ALT-DESC;FMTTYPE=text/html:<!DOCTYPE html><html><head><title></title></head><body aria-disabled="false"><p>&nbsp\; &nbsp\;</p><p style='box-sizing: border-box\; border-width: 0px\; border-style: solid\; border-color: currentcolor\; margin: 0px\; font-family: Lato\, Helvetica\, Arial\, "sans-serif"\; font-weight: 400\; font-size: 20px\; line-height: 28px\; color: rgb(70\, 70\, 72)\; margin-block: 24px\; font-style: normal\; font-variant-ligatures: normal\; font-variant-caps: normal\; letter-spacing: normal\; orphans: 2\; text-align: start\; text-indent: 0px\; text-transform: none\; widows: 2\; word-spacing: 0px\; -webkit-text-stroke-width: 0px\; white-space: normal\; background-color: rgb(255\, 255\, 255)\; text-decoration-thickness: initial\; text-decoration-style: initial\; text-decoration-color: initial\;'>For many nonprofit leaders\, letting go of day-to-day tasks can feel uncomfortable\, even when it&rsquo\;s necessary.</p><p style='box-sizing: border-box\; border-width: 0px\; border-style: solid\; border-color: currentcolor\; margin: 0px\; font-family: Lato\, Helvetica\, Arial\, "sans-serif"\; font-weight: 400\; font-size: 20px\; line-height: 28px\; color: rgb(70\, 70\, 72)\; margin-block: 24px\; font-style: normal\; font-variant-ligatures: normal\; font-variant-caps: normal\; letter-spacing: normal\; orphans: 2\; text-align: start\; text-indent: 0px\; text-transform: none\; widows: 2\; word-spacing: 0px\; -webkit-text-stroke-width: 0px\; white-space: normal\; background-color: rgb(255\, 255\, 255)\; text-decoration-thickness: initial\; text-decoration-style: initial\; text-decoration-color: initial\;'>Whether your team is made up of staff\, volunteers\, or a mix of both\, mastering the art of delegation is essential for reducing burnout\, strengthening your organization\, and focusing on the work that truly requires your leadership.</p><p style='box-sizing: border-box\; border-width: 0px\; border-style: solid\; border-color: currentcolor\; margin: 0px\; font-family: Lato\, Helvetica\, Arial\, "sans-serif"\; font-weight: 400\; font-size: 20px\; line-height: 28px\; color: rgb(70\, 70\, 72)\; margin-block: 24px\; font-style: normal\; font-variant-ligatures: normal\; font-variant-caps: normal\; letter-spacing: normal\; orphans: 2\; text-align: start\; text-indent: 0px\; text-transform: none\; widows: 2\; word-spacing: 0px\; -webkit-text-stroke-width: 0px\; white-space: normal\; background-color: rgb(255\, 255\, 255)\; text-decoration-thickness: initial\; text-decoration-style: initial\; text-decoration-color: initial\;'>In this engaging and practical session\, nonprofit consultant Cheryl Smith will guide Executive Directors through proven strategies for delegating with confidence. Participants will learn how to decide what to delegate\, assign responsibilities to the right people\, and set expectations in a way that builds trust and maintains quality. The result: a stronger team\, more time for strategic priorities\, and less stress for you.</p><p style='box-sizing: border-box\; border-width: 0px\; border-style: solid\; border-color: currentcolor\; margin: 0px\; font-family: Lato\, Helvetica\, Arial\, "sans-serif"\; font-weight: 400\; font-size: 20px\; line-height: 28px\; color: rgb(70\, 70\, 72)\; margin-block: 24px\; font-style: normal\; font-variant-ligatures: normal\; font-variant-caps: normal\; letter-spacing: normal\; orphans: 2\; text-align: start\; text-indent: 0px\; text-transform: none\; widows: 2\; word-spacing: 0px\; -webkit-text-stroke-width: 0px\; white-space: normal\; background-color: rgb(255\, 255\, 255)\; text-decoration-thickness: initial\; text-decoration-style: initial\; text-decoration-color: initial\;'><strong fr-original-style="box-sizing: border-box\; border-width: 0px\; border-style: solid\; border-color: currentcolor\; font-weight: bolder\; margin: 0px\; font-size: 20px\; line-height: 28px\; color: rgb(70\, 70\, 72)\;" style="box-sizing: border-box\; border-width: 0px\; border-style: solid\; border-color: currentcolor\; font-weight: bolder\; margin: 0px\; font-size: 20px\; line-height: 28px\; color: rgb(70\, 70\, 72)\;">Participants Will Learn How To:</strong></p><ul fr-original-style='box-sizing: border-box\; border-width: 0px\; border-style: solid\; border-color: currentcolor\; list-style: disc\; margin: 0px\; padding: 0px 40px\; margin-block: 24px\; color: rgb(0\, 0\, 0)\; font-family: ui-sans-serif\, system-ui\, sans-serif\, "Apple Color Emoji"\, "Segoe UI Emoji"\, "Segoe UI Symbol"\, "Noto Color Emoji"\; font-size: medium\; font-style: normal\; font-variant-ligatures: normal\; font-variant-caps: normal\; font-weight: 400\; letter-spacing: normal\; orphans: 2\; text-align: start\; text-indent: 0px\; text-transform: none\; widows: 2\; word-spacing: 0px\; -webkit-text-stroke-width: 0px\; white-space: normal\; background-color: rgb(255\, 255\, 255)\; text-decoration-thickness: initial\; text-decoration-style: initial\; text-decoration-color: initial\;' style='box-sizing: border-box\; border-width: 0px\; border-style: solid\; border-color: currentcolor\; list-style: disc\; padding: 0px 40px\; color: rgb(0\, 0\, 0)\; font-family: ui-sans-serif\, system-ui\, sans-serif\, "Apple Color Emoji"\, "Segoe UI Emoji"\, "Segoe UI Symbol"\, "Noto Color Emoji"\; font-size: medium\; font-style: normal\; font-variant-ligatures: normal\; font-variant-caps: normal\; font-weight: 400\; letter-spacing: normal\; orphans: 2\; text-align: start\; text-indent: 0px\; text-transform: none\; widows: 2\; word-spacing: 0px\; -webkit-text-stroke-width: 0px\; white-space: normal\; background-color: rgb(255\, 255\, 255)\; text-decoration-thickness: initial\; text-decoration-style: initial\; text-decoration-color: initial\; margin: 0px\; margin-block: 24px\;'><li style='box-sizing: border-box\; border-width: 0px\; border-style: solid\; border-color: currentcolor\; padding-left: 12px\; font-family: Lato\, Helvetica\, Arial\, "sans-serif"\; line-height: 28px\; color: rgb(70\, 70\, 72)\; font-size: 18px\; margin-block-end: 1rem\;'>Understand the personal and organizational benefits of healthy delegation</li><li style='box-sizing: border-box\; border-width: 0px\; border-style: solid\; border-color: currentcolor\; padding-left: 12px\; font-family: Lato\, Helvetica\, Arial\, "sans-serif"\; line-height: 28px\; color: rgb(70\, 70\, 72)\; font-size: 18px\; margin-block-end: 1rem\;'>Identify which tasks to keep and which to hand off using a simple decision-making framework</li><li style='box-sizing: border-box\; border-width: 0px\; border-style: solid\; border-color: currentcolor\; padding-left: 12px\; font-family: Lato\, Helvetica\, Arial\, "sans-serif"\; line-height: 28px\; color: rgb(70\, 70\, 72)\; font-size: 18px\; margin-block-end: 1rem\;'>Match responsibilities to staff or volunteers based on skills\, capacity\, and motivation</li><li style='box-sizing: border-box\; border-width: 0px\; border-style: solid\; border-color: currentcolor\; padding-left: 12px\; font-family: Lato\, Helvetica\, Arial\, "sans-serif"\; line-height: 28px\; color: rgb(70\, 70\, 72)\; font-size: 18px\; margin-block-end: 1rem\;'>Provide clear instructions\, timelines\, and accountability without micromanaging</li><li style='box-sizing: border-box\; border-width: 0px\; border-style: solid\; border-color: currentcolor\; padding-left: 12px\; font-family: Lato\, Helvetica\, Arial\, "sans-serif"\; line-height: 28px\; color: rgb(70\, 70\, 72)\; font-size: 18px\; margin-block-end: 1rem\;'>Use practical scripts to make delegation feel supportive rather than burdensome</li><li style='box-sizing: border-box\; border-width: 0px\; border-style: solid\; border-color: currentcolor\; padding-left: 12px\; font-family: Lato\, Helvetica\, Arial\, "sans-serif"\; line-height: 28px\; color: rgb(70\, 70\, 72)\; font-size: 18px\; margin-block-end: 1rem\;'>Overcome guilt and the fear of losing control when handing off work</li><li style='box-sizing: border-box\; border-width: 0px\; border-style: solid\; border-color: currentcolor\; padding-left: 12px\; font-family: Lato\, Helvetica\, Arial\, "sans-serif"\; line-height: 28px\; color: rgb(70\, 70\, 72)\; font-size: 18px\;'>Build a culture where delegation is seen as an opportunity for growth\, not a chore</li><li style='box-sizing: border-box\; border-width: 0px\; border-style: solid\; border-color: currentcolor\; padding-left: 12px\; font-family: Lato\, Helvetica\, Arial\, "sans-serif"\; line-height: 28px\; color: rgb(70\, 70\, 72)\; font-size: 18px\;'>Register:&nbsp\;<a fr-original-style="" href="https://www.score.org/jacksonville/event/art-nonprofit-delegation" style="user-select: auto\;">https://www.score.org/jacksonville/event/art-nonprofit-delegation</a></li></ul></body></html>
LOCATION:
UID:e.3532.1431379
SEQUENCE:3
DTSTAMP:20260420T184007Z
URL:https://members.belleviewcep.com/eventcalendar/Details/score-the-art-of-nonprofit-delegation-1694015?sourceTypeId=Hub
END:VEVENT
END:VCALENDAR
