BEGIN:VCALENDAR
VERSION:2.0
PRODID:-//ChamberMaster//Event Calendar 2.0//EN
METHOD:PUBLISH
X-PUBLISHED-TTL:P1H
REFRESH-INTERVAL:P1H
CALSCALE:GREGORIAN
BEGIN:VTIMEZONE
TZID:America/New_York
BEGIN:DAYLIGHT
RRULE:FREQ=YEARLY;BYMONTH=3;BYDAY=2SU
DTSTART:20070101T000000
TZOFFSETFROM:-0500
TZOFFSETTO:-0400
TZNAME:Eastern Daylight Time
END:DAYLIGHT
BEGIN:STANDARD
RRULE:FREQ=YEARLY;BYMONTH=11;BYDAY=1SU
DTSTART:20070101T000000
TZOFFSETFROM:-0400
TZOFFSETTO:-0500
TZNAME:Eastern Standard Time
END:STANDARD
END:VTIMEZONE
BEGIN:VEVENT
DTSTART;TZID=America/New_York:20260520T190000
DTEND;TZID=America/New_York:20260520T200000
X-MICROSOFT-CDO-ALLDAYEVENT:FALSE
SUMMARY:SCORE: Sales Conversations That Feel Like Coffee\, Not Combat
DESCRIPTION:Master the art of sales conversations that feel like a relaxed coffee chat where curiosity leads\, pressure fades\, and closing happens naturally through genuine connection. Walk away with a sales conversation framework that will lead to more "yeses".Register: https://www.score.org/midflorida/event/sales-conversations-feel-coffee-not-combat
X-ALT-DESC;FMTTYPE=text/html:<!DOCTYPE html><html><head><title></title></head><body aria-disabled="false"><p>Master the art of sales conversations that feel like a relaxed coffee chat&mdash\;where curiosity leads\, pressure fades\, and closing happens naturally through genuine connection. Walk away with a sales conversation framework that will lead to more &quot\;yeses&quot\;.</p><p>Register:&nbsp\;<a fr-original-style="" href="https://www.score.org/midflorida/event/sales-conversations-feel-coffee-not-combat" style="user-select: auto\;">https://www.score.org/midflorida/event/sales-conversations-feel-coffee-not-combat</a></p></body></html>
LOCATION:
UID:e.3532.1431384
SEQUENCE:3
DTSTAMP:20260420T183722Z
URL:https://members.belleviewcep.com/eventcalendar/Details/score-sales-conversations-that-feel-like-coffee-not-combat-1694020?sourceTypeId=Hub
END:VEVENT
END:VCALENDAR
