BEGIN:VCALENDAR
VERSION:2.0
PRODID:-//ChamberMaster//Event Calendar 2.0//EN
METHOD:PUBLISH
X-PUBLISHED-TTL:P1H
REFRESH-INTERVAL:P1H
CALSCALE:GREGORIAN
BEGIN:VTIMEZONE
TZID:America/New_York
BEGIN:DAYLIGHT
RRULE:FREQ=YEARLY;BYMONTH=3;BYDAY=2SU
DTSTART:20070101T000000
TZOFFSETFROM:-0500
TZOFFSETTO:-0400
TZNAME:Eastern Daylight Time
END:DAYLIGHT
BEGIN:STANDARD
RRULE:FREQ=YEARLY;BYMONTH=11;BYDAY=1SU
DTSTART:20070101T000000
TZOFFSETFROM:-0400
TZOFFSETTO:-0500
TZNAME:Eastern Standard Time
END:STANDARD
END:VTIMEZONE
BEGIN:VEVENT
DTSTART;TZID=America/New_York:20260422T180000
DTEND;TZID=America/New_York:20260422T191500
X-MICROSOFT-CDO-ALLDAYEVENT:FALSE
SUMMARY:SCORE: OBBBA y los Nuevos Incentivos Fiscales para Familias y Parejas
DESCRIPTION:Aprende c mo la nueva ley OBBBA puede ayudarte a pagar menos impuestos\, obtener m s cr ditos por hijos y aprovechar beneficios para familias y parejas casadas. Informaci n clara\, pr ctica y actualizada para planificar mejor tus impuestos.Register: https://www.score.org/es/midflorida/event/obbba-y-los-nuevos-incentivos-fiscales-para-familias-y-parejas
X-ALT-DESC;FMTTYPE=text/html:<!DOCTYPE html><html><head><title></title></head><body aria-disabled="false"><p>Aprende c&oacute\;mo la nueva ley OBBBA puede ayudarte a pagar menos impuestos\, obtener m&aacute\;s cr&eacute\;ditos por hijos y aprovechar beneficios para familias y parejas casadas. Informaci&oacute\;n clara\, pr&aacute\;ctica y actualizada para planificar mejor tus impuestos.</p><p>Register:&nbsp\;<a fr-original-style="" href="https://www.score.org/es/midflorida/event/obbba-y-los-nuevos-incentivos-fiscales-para-familias-y-parejas" style="user-select: auto\;">https://www.score.org/es/midflorida/event/obbba-y-los-nuevos-incentivos-fiscales-para-familias-y-parejas</a></p><p><br></p><p><br></p></body></html>
LOCATION:
UID:e.3532.1410629
SEQUENCE:3
DTSTAMP:20260420T184128Z
URL:https://members.belleviewcep.com/eventcalendar/Details/score-obbba-y-los-nuevos-incentivos-fiscales-para-familias-y-parejas-1666913?sourceTypeId=Hub
END:VEVENT
END:VCALENDAR
