BEGIN:VCALENDAR
VERSION:2.0
PRODID:-//ChamberMaster//Event Calendar 2.0//EN
METHOD:PUBLISH
X-PUBLISHED-TTL:P1H
REFRESH-INTERVAL:P1H
CALSCALE:GREGORIAN
BEGIN:VTIMEZONE
TZID:America/New_York
BEGIN:DAYLIGHT
RRULE:FREQ=YEARLY;BYMONTH=3;BYDAY=2SU
DTSTART:20070101T000000
TZOFFSETFROM:-0500
TZOFFSETTO:-0400
TZNAME:Eastern Daylight Time
END:DAYLIGHT
BEGIN:STANDARD
RRULE:FREQ=YEARLY;BYMONTH=11;BYDAY=1SU
DTSTART:20070101T000000
TZOFFSETFROM:-0400
TZOFFSETTO:-0500
TZNAME:Eastern Standard Time
END:STANDARD
END:VTIMEZONE
BEGIN:VEVENT
DTSTART;TZID=America/New_York:20260520T110000
DTEND;TZID=America/New_York:20260520T120000
X-MICROSOFT-CDO-ALLDAYEVENT:FALSE
SUMMARY:SCORE: Navigating Employment Law Updates: What Small-Business Owners Need to Know
DESCRIPTION:This is a timely and critical subject for entrepreneurs\, as employment laws evolve rapidly to address worker protections\, economic shifts\, and emerging workplace trends. For small businesses (typically under 50 employees)\, non-compliance can lead to costly fines\, lawsuits\, or reputational damage often hitting harder due to limited resources. In this webinar\, we focus on key changes that have happened this year and upcoming changes that small-business owners need to know to avoid running afoul of the law.Register: https://www.score.org/jacksonville/event/navigating-employment-law-updates-what-small-business-owners-need-know-3
X-ALT-DESC;FMTTYPE=text/html:<!DOCTYPE html><html><head><title></title></head><body aria-disabled="false"><p>This is a timely and critical subject for entrepreneurs\, as employment laws evolve rapidly to address worker protections\, economic shifts\, and emerging workplace trends. For small businesses (typically under 50 employees)\, non-compliance can lead to costly fines\, lawsuits\, or reputational damage&mdash\;often hitting harder due to limited resources. In this webinar\, we focus on key changes that have happened this year and upcoming changes that small-business owners need to know to avoid running afoul of the law.</p><p>Register:&nbsp\;<a fr-original-style="" href="https://www.score.org/jacksonville/event/navigating-employment-law-updates-what-small-business-owners-need-know-3" style="user-select: auto\;">https://www.score.org/jacksonville/event/navigating-employment-law-updates-what-small-business-owners-need-know-3</a></p></body></html>
LOCATION:
UID:e.3532.1431381
SEQUENCE:3
DTSTAMP:20260420T184006Z
URL:https://members.belleviewcep.com/eventcalendar/Details/score-navigating-employment-law-updates-what-small-business-owners-need-to-know-1694017?sourceTypeId=Hub
END:VEVENT
END:VCALENDAR
