BEGIN:VCALENDAR
VERSION:2.0
PRODID:-//ChamberMaster//Event Calendar 2.0//EN
METHOD:PUBLISH
X-PUBLISHED-TTL:P1H
REFRESH-INTERVAL:P1H
CALSCALE:GREGORIAN
BEGIN:VTIMEZONE
TZID:America/New_York
BEGIN:DAYLIGHT
RRULE:FREQ=YEARLY;BYMONTH=3;BYDAY=2SU
DTSTART:20070101T000000
TZOFFSETFROM:-0500
TZOFFSETTO:-0400
TZNAME:Eastern Daylight Time
END:DAYLIGHT
BEGIN:STANDARD
RRULE:FREQ=YEARLY;BYMONTH=11;BYDAY=1SU
DTSTART:20070101T000000
TZOFFSETFROM:-0400
TZOFFSETTO:-0500
TZNAME:Eastern Standard Time
END:STANDARD
END:VTIMEZONE
BEGIN:VEVENT
DTSTART;TZID=America/New_York:20260527T180000
DTEND;TZID=America/New_York:20260527T210000
X-MICROSOFT-CDO-ALLDAYEVENT:FALSE
SUMMARY:SCORE: Master Your Money: Financial Planning Made Simple
DESCRIPTION:Take control of your business finances once and for all! Demystify accounting and financial management with practical\, easy-to-understand strategies. Learn to create essential financial statements including cash flow projections\, income statements\, and balance sheets that actually make sense. You'll master break-even analysis and discover simple systems for tracking and controlling your money. No accounting background required just bring your willingness to learn!Register: https://www.score.org/orlando/event/master-your-money-financial-planning-made-simple-4
X-ALT-DESC;FMTTYPE=text/html:<!DOCTYPE html><html><head><title></title></head><body aria-disabled="false"><p>Take control of your business finances once and for all! Demystify accounting and financial management with practical\, easy-to-understand strategies. Learn to create essential financial statements including cash flow projections\, income statements\, and balance sheets that actually make sense. You&#39\;ll master break-even analysis and discover simple systems for tracking and controlling your money. No accounting background required&mdash\;just bring your willingness to learn!</p><p>Register:&nbsp\;<a fr-original-style="" href="https://www.score.org/orlando/event/master-your-money-financial-planning-made-simple-4" style="user-select: auto\;">https://www.score.org/orlando/event/master-your-money-financial-planning-made-simple-4</a></p></body></html>
LOCATION:
UID:e.3532.1431390
SEQUENCE:3
DTSTAMP:20260420T183822Z
URL:https://members.belleviewcep.com/eventcalendar/Details/score-master-your-money-financial-planning-made-simple-1694026?sourceTypeId=Hub
END:VEVENT
END:VCALENDAR
