BEGIN:VCALENDAR
VERSION:2.0
PRODID:-//ChamberMaster//Event Calendar 2.0//EN
METHOD:PUBLISH
X-PUBLISHED-TTL:P1H
REFRESH-INTERVAL:P1H
CALSCALE:GREGORIAN
BEGIN:VTIMEZONE
TZID:America/New_York
BEGIN:DAYLIGHT
RRULE:FREQ=YEARLY;BYMONTH=3;BYDAY=2SU
DTSTART:20070101T000000
TZOFFSETFROM:-0500
TZOFFSETTO:-0400
TZNAME:Eastern Daylight Time
END:DAYLIGHT
BEGIN:STANDARD
RRULE:FREQ=YEARLY;BYMONTH=11;BYDAY=1SU
DTSTART:20070101T000000
TZOFFSETFROM:-0400
TZOFFSETTO:-0500
TZNAME:Eastern Standard Time
END:STANDARD
END:VTIMEZONE
BEGIN:VEVENT
DTSTART;TZID=America/New_York:20260422T180000
DTEND;TZID=America/New_York:20260422T200000
X-MICROSOFT-CDO-ALLDAYEVENT:FALSE
SUMMARY:SCORE: How to Start a Non-Profit
DESCRIPTION:This workshop is for anyone looking to start a non-profit and is committed to providing a community service. The presenter will show you step by step how he set up a non-profit in 6 months\, without a lawyer. How to create a legal non-profit structure Mapping out your program service Making the case for fundingRegister: https://www.score.org/orlando/event/how-start-a-non-profit-17
X-ALT-DESC;FMTTYPE=text/html:<!DOCTYPE html><html><head><title></title></head><body aria-disabled="false"><p>This workshop is for anyone looking to start a non-profit and is committed to providing a community service. The presenter will show you step by step how he set up a non-profit in 6 months\, without a lawyer. How to create a legal non-profit structure Mapping out your program service Making the case for funding</p><p>Register:&nbsp\;<a fr-original-style="" href="https://www.score.org/orlando/event/how-start-a-non-profit-17" style="user-select: auto\;">https://www.score.org/orlando/event/how-start-a-non-profit-17</a></p></body></html>
LOCATION:
UID:e.3532.1410628
SEQUENCE:3
DTSTAMP:20260420T183715Z
URL:https://members.belleviewcep.com/eventcalendar/Details/score-how-to-start-a-non-profit-1666912?sourceTypeId=Hub
END:VEVENT
END:VCALENDAR
