BEGIN:VCALENDAR
VERSION:2.0
PRODID:-//ChamberMaster//Event Calendar 2.0//EN
METHOD:PUBLISH
X-PUBLISHED-TTL:P1H
REFRESH-INTERVAL:P1H
CALSCALE:GREGORIAN
BEGIN:VTIMEZONE
TZID:America/New_York
BEGIN:DAYLIGHT
RRULE:FREQ=YEARLY;BYMONTH=3;BYDAY=2SU
DTSTART:20070101T000000
TZOFFSETFROM:-0500
TZOFFSETTO:-0400
TZNAME:Eastern Daylight Time
END:DAYLIGHT
BEGIN:STANDARD
RRULE:FREQ=YEARLY;BYMONTH=11;BYDAY=1SU
DTSTART:20070101T000000
TZOFFSETFROM:-0400
TZOFFSETTO:-0500
TZNAME:Eastern Standard Time
END:STANDARD
END:VTIMEZONE
BEGIN:VEVENT
DTSTART;TZID=America/New_York:20260519T120000
DTEND;TZID=America/New_York:20260519T133000
X-MICROSOFT-CDO-ALLDAYEVENT:FALSE
SUMMARY:SCORE: How They Buy: Selling to the Four Personality Styles
DESCRIPTION:Every client has their own decision-making style. This session equips you with the tools to decode the four major personality types\, adapt your pitch to match their preferences\, and dramatically improve your sales results.Register: https://www.score.org/jacksonville/event/how-they-buy-selling-four-personality-styles-2
X-ALT-DESC;FMTTYPE=text/html:<!DOCTYPE html><html><head><title></title></head><body aria-disabled="false"><p>Every client has their own decision-making style. This session equips you with the tools to decode the four major personality types\, adapt your pitch to match their preferences\, and dramatically improve your sales results.</p><p>Register:&nbsp\;<a fr-original-style="" href="https://www.score.org/jacksonville/event/how-they-buy-selling-four-personality-styles-2" style="user-select: auto\;">https://www.score.org/jacksonville/event/how-they-buy-selling-four-personality-styles-2</a></p></body></html>
LOCATION:
UID:e.3532.1431377
SEQUENCE:3
DTSTAMP:20260420T184124Z
URL:https://members.belleviewcep.com/eventcalendar/Details/score-how-they-buy-selling-to-the-four-personality-styles-1694013?sourceTypeId=Hub
END:VEVENT
END:VCALENDAR
