BEGIN:VCALENDAR
VERSION:2.0
PRODID:-//ChamberMaster//Event Calendar 2.0//EN
METHOD:PUBLISH
X-PUBLISHED-TTL:P1H
REFRESH-INTERVAL:P1H
CALSCALE:GREGORIAN
BEGIN:VTIMEZONE
TZID:America/New_York
BEGIN:DAYLIGHT
RRULE:FREQ=YEARLY;BYMONTH=3;BYDAY=2SU
DTSTART:20070101T000000
TZOFFSETFROM:-0500
TZOFFSETTO:-0400
TZNAME:Eastern Daylight Time
END:DAYLIGHT
BEGIN:STANDARD
RRULE:FREQ=YEARLY;BYMONTH=11;BYDAY=1SU
DTSTART:20070101T000000
TZOFFSETFROM:-0400
TZOFFSETTO:-0500
TZNAME:Eastern Standard Time
END:STANDARD
END:VTIMEZONE
BEGIN:VEVENT
DTSTART;TZID=America/New_York:20260506T110000
DTEND;TZID=America/New_York:20260506T123000
X-MICROSOFT-CDO-ALLDAYEVENT:FALSE
SUMMARY:SCORE: Government Contracts 101: Understanding The Procurement Journey
DESCRIPTION:This course aims to demystify the government contracting (GovCon) process\, helping businesses understand the procurement lifecycle and seize government contracting opportunities at federal\, state\, and local levels. It highlights common challenges and the potential benefits available through government contracts. Key Points Identifying Government Contracting Opportunities Procurement Lifecycle Where Most Companies Focus vs. Where They Should Focus Proposal Writing & Submission Best Practices Contract Award & Post-Award ComplianceRegister: https://www.score.org/jacksonville/event/government-contracts-101-understanding-procurement-journey-2
X-ALT-DESC;FMTTYPE=text/html:<!DOCTYPE html><html><head><title></title></head><body aria-disabled="false"><p>This course aims to demystify the government contracting (GovCon) process\, helping businesses understand the procurement lifecycle and seize government contracting opportunities at federal\, state\, and local levels. It highlights common challenges and the potential benefits available through government contracts. Key Points Identifying Government Contracting Opportunities Procurement Lifecycle Where Most Companies Focus vs. Where They Should Focus Proposal Writing &amp\; Submission Best Practices Contract Award &amp\; Post-Award Compliance</p><p>Register:&nbsp\;<a fr-original-style="" href="https://www.score.org/jacksonville/event/government-contracts-101-understanding-procurement-journey-2" style="user-select: auto\;">https://www.score.org/jacksonville/event/government-contracts-101-understanding-procurement-journey-2</a></p></body></html>
LOCATION:
UID:e.3532.1431341
SEQUENCE:3
DTSTAMP:20260420T183822Z
URL:https://members.belleviewcep.com/eventcalendar/Details/score-government-contracts-101-understanding-the-procurement-journey-1693977?sourceTypeId=Hub
END:VEVENT
END:VCALENDAR
