BEGIN:VCALENDAR
VERSION:2.0
PRODID:-//ChamberMaster//Event Calendar 2.0//EN
METHOD:PUBLISH
X-PUBLISHED-TTL:P1H
REFRESH-INTERVAL:P1H
CALSCALE:GREGORIAN
BEGIN:VTIMEZONE
TZID:America/New_York
BEGIN:DAYLIGHT
RRULE:FREQ=YEARLY;BYMONTH=3;BYDAY=2SU
DTSTART:20070101T000000
TZOFFSETFROM:-0500
TZOFFSETTO:-0400
TZNAME:Eastern Daylight Time
END:DAYLIGHT
BEGIN:STANDARD
RRULE:FREQ=YEARLY;BYMONTH=11;BYDAY=1SU
DTSTART:20070101T000000
TZOFFSETFROM:-0400
TZOFFSETTO:-0500
TZNAME:Eastern Standard Time
END:STANDARD
END:VTIMEZONE
BEGIN:VEVENT
DTSTART;TZID=America/New_York:20260421T120000
DTEND;TZID=America/New_York:20260421T133000
X-MICROSOFT-CDO-ALLDAYEVENT:FALSE
SUMMARY:SCORE: Filling Your Sales Pipeline: How to Find and Meet Your Ideal Clients
DESCRIPTION:Is your sales pipeline running dry? Learn proven techniques to identify your ideal clients\, build a robust prospecting process\, and consistently fill your pipeline with high-quality leads. This session will give you the tools to create steady business growth.Register: https://www.score.org/jacksonville/event/filling-your-sales-pipeline-how-find-and-meet-your-ideal-clients-4
X-ALT-DESC;FMTTYPE=text/html:<!DOCTYPE html><html><head><title></title></head><body aria-disabled="false"><p>Is your sales pipeline running dry? Learn proven techniques to identify your ideal clients\, build a robust prospecting process\, and consistently fill your pipeline with high-quality leads. This session will give you the tools to create steady business growth.</p><p>Register:&nbsp\;<a fr-original-style="" href="https://www.score.org/jacksonville/event/filling-your-sales-pipeline-how-find-and-meet-your-ideal-clients-4" style="user-select: auto\;">https://www.score.org/jacksonville/event/filling-your-sales-pipeline-how-find-and-meet-your-ideal-clients-4</a></p></body></html>
LOCATION:
UID:e.3532.1410622
SEQUENCE:3
DTSTAMP:20260420T184129Z
URL:https://members.belleviewcep.com/eventcalendar/Details/score-filling-your-sales-pipeline-how-to-find-and-meet-your-ideal-clients-1666906?sourceTypeId=Hub
END:VEVENT
END:VCALENDAR
