BEGIN:VCALENDAR
VERSION:2.0
PRODID:-//ChamberMaster//Event Calendar 2.0//EN
METHOD:PUBLISH
X-PUBLISHED-TTL:P1H
REFRESH-INTERVAL:P1H
CALSCALE:GREGORIAN
BEGIN:VTIMEZONE
TZID:America/New_York
BEGIN:DAYLIGHT
RRULE:FREQ=YEARLY;BYMONTH=3;BYDAY=2SU
DTSTART:20070101T000000
TZOFFSETFROM:-0500
TZOFFSETTO:-0400
TZNAME:Eastern Daylight Time
END:DAYLIGHT
BEGIN:STANDARD
RRULE:FREQ=YEARLY;BYMONTH=11;BYDAY=1SU
DTSTART:20070101T000000
TZOFFSETFROM:-0400
TZOFFSETTO:-0500
TZNAME:Eastern Standard Time
END:STANDARD
END:VTIMEZONE
BEGIN:VEVENT
DTSTART;TZID=America/New_York:20260418T100000
DTEND;TZID=America/New_York:20260418T110000
X-MICROSOFT-CDO-ALLDAYEVENT:FALSE
SUMMARY:SCORE: Excellence in Communication
DESCRIPTION:Whether it is with your clients\, suppliers\, staff\, or your marketplace\, how you convey your message makes a tremendous difference. For many people\, this isn't always a natural skill. This webinar provides expert advice on how to improve your communication skills and have a greater impact. We will look at: Innovation Optimization: Tools and techniques that drive value internally and with clients. Block Writing: Proven technique that forces critical thinking and improves insights. Presentations: Proven tools and approaches that increase insight and drive actions. Success Sessions: Technique for more efficient time management and effective results.Register: https://www.score.org/midflorida/event/excellence-communication
X-ALT-DESC;FMTTYPE=text/html:<!DOCTYPE html><html><head><title></title></head><body aria-disabled="false"><p>Whether it is with your clients\, suppliers\, staff\, or your marketplace\, how you convey your message makes a tremendous difference. For many people\, this isn&#39\;t always a natural skill. This webinar provides expert advice on how to improve your communication skills and have a greater impact. We will look at: Innovation Optimization: Tools and techniques that drive value internally and with clients. Block Writing: Proven technique that forces critical thinking and improves insights. Presentations: Proven tools and approaches that increase insight and drive actions. Success Sessions: Technique for more efficient time management and effective results.</p><p>Register:&nbsp\;<a fr-original-style="" href="https://www.score.org/midflorida/event/excellence-communication" style="user-select: auto\;">https://www.score.org/midflorida/event/excellence-communication</a></p></body></html>
LOCATION:
UID:e.3532.1410619
SEQUENCE:3
DTSTAMP:20260420T183550Z
URL:https://members.belleviewcep.com/eventcalendar/Details/score-excellence-in-communication-1666903?sourceTypeId=Hub
END:VEVENT
END:VCALENDAR
