BEGIN:VCALENDAR
VERSION:2.0
PRODID:-//ChamberMaster//Event Calendar 2.0//EN
METHOD:PUBLISH
X-PUBLISHED-TTL:P1H
REFRESH-INTERVAL:P1H
CALSCALE:GREGORIAN
BEGIN:VTIMEZONE
TZID:America/New_York
BEGIN:DAYLIGHT
RRULE:FREQ=YEARLY;BYMONTH=3;BYDAY=2SU
DTSTART:20070101T000000
TZOFFSETFROM:-0500
TZOFFSETTO:-0400
TZNAME:Eastern Daylight Time
END:DAYLIGHT
BEGIN:STANDARD
RRULE:FREQ=YEARLY;BYMONTH=11;BYDAY=1SU
DTSTART:20070101T000000
TZOFFSETFROM:-0400
TZOFFSETTO:-0500
TZNAME:Eastern Standard Time
END:STANDARD
END:VTIMEZONE
BEGIN:VEVENT
DTSTART;TZID=America/New_York:20260423T190000
DTEND;TZID=America/New_York:20260423T200000
X-MICROSOFT-CDO-ALLDAYEVENT:FALSE
SUMMARY:SCORE: Discover What Your Customers Want
DESCRIPTION:Customer Discovery is a critical element to success. People only buy what they want\, not what they need. This is a hard lesson and learning it late can cost time\, money and even success. In this session\, you will learn how to ask questions that get you valuable answers and information you can use to build your business. We will discuss strategies to get interviews and will learn what to listen for. What are the important emotions you want to uncover? Then learn how to use what you hear to make better decisions and to fine tune your marketing strategy.Register: https://www.score.org/midflorida/event/discover-what-your-customers-want-0
X-ALT-DESC;FMTTYPE=text/html:<!DOCTYPE html><html><head><title></title></head><body aria-disabled="false"><p>Customer Discovery is a critical element to success. People only buy what they want\, not what they need. This is a hard lesson and learning it late can cost time\, money and even success. In this session\, you will learn how to ask questions that get you valuable answers and information you can use to build your business. We will discuss strategies to get interviews and will learn what to listen for. What are the important emotions you want to uncover? Then learn how to use what you hear to make better decisions and to fine tune your marketing strategy.</p><p>Register:&nbsp\;<a fr-original-style="" href="https://www.score.org/midflorida/event/discover-what-your-customers-want-0" style="user-select: auto\;">https://www.score.org/midflorida/event/discover-what-your-customers-want-0</a></p></body></html>
LOCATION:
UID:e.3532.1410630
SEQUENCE:3
DTSTAMP:20260420T183645Z
URL:https://members.belleviewcep.com/eventcalendar/Details/score-discover-what-your-customers-want-1666914?sourceTypeId=Hub
END:VEVENT
END:VCALENDAR
