BEGIN:VCALENDAR
VERSION:2.0
PRODID:-//ChamberMaster//Event Calendar 2.0//EN
METHOD:PUBLISH
X-PUBLISHED-TTL:P1H
REFRESH-INTERVAL:P1H
CALSCALE:GREGORIAN
BEGIN:VTIMEZONE
TZID:America/New_York
BEGIN:DAYLIGHT
RRULE:FREQ=YEARLY;BYMONTH=3;BYDAY=2SU
DTSTART:20070101T000000
TZOFFSETFROM:-0500
TZOFFSETTO:-0400
TZNAME:Eastern Daylight Time
END:DAYLIGHT
BEGIN:STANDARD
RRULE:FREQ=YEARLY;BYMONTH=11;BYDAY=1SU
DTSTART:20070101T000000
TZOFFSETFROM:-0400
TZOFFSETTO:-0500
TZNAME:Eastern Standard Time
END:STANDARD
END:VTIMEZONE
BEGIN:VEVENT
DTSTART;TZID=America/New_York:20260415T180000
DTEND;TZID=America/New_York:20260415T210000
X-MICROSOFT-CDO-ALLDAYEVENT:FALSE
SUMMARY:SCORE: Craft a Winning Business Plan That Gets Results
DESCRIPTION:Turn your business concept into an investor-ready masterpiece! Using our proven template system\, you'll create a compelling business plan that opens doors to funding and partnerships. This intensive workshop walks you through each critical section\, helping you articulate your vision\, validate your market opportunity\, and present your business case with confidence. Come prepared with your research and marketing insights leave with a professional plan that commands attention.Register: https://www.score.org/orlando/event/craft-a-winning-business-plan-gets-results-2
X-ALT-DESC;FMTTYPE=text/html:<!DOCTYPE html><html><head><title></title></head><body aria-disabled="false"><p>Turn your business concept into an investor-ready masterpiece! Using our proven template system\, you&#39\;ll create a compelling business plan that opens doors to funding and partnerships. This intensive workshop walks you through each critical section\, helping you articulate your vision\, validate your market opportunity\, and present your business case with confidence. Come prepared with your research and marketing insights&mdash\;leave with a professional plan that commands attention.</p><p>Register:&nbsp\;<a fr-original-style="" href="https://www.score.org/orlando/event/craft-a-winning-business-plan-gets-results-2" style="user-select: auto\;">https://www.score.org/orlando/event/craft-a-winning-business-plan-gets-results-2</a></p></body></html>
LOCATION:
UID:e.3532.1410616
SEQUENCE:3
DTSTAMP:20260420T183824Z
URL:https://members.belleviewcep.com/eventcalendar/Details/score-craft-a-winning-business-plan-that-gets-results-1666900?sourceTypeId=Hub
END:VEVENT
END:VCALENDAR
