BEGIN:VCALENDAR
VERSION:2.0
PRODID:-//ChamberMaster//Event Calendar 2.0//EN
METHOD:PUBLISH
X-PUBLISHED-TTL:P1H
REFRESH-INTERVAL:P1H
CALSCALE:GREGORIAN
BEGIN:VTIMEZONE
TZID:America/New_York
BEGIN:DAYLIGHT
RRULE:FREQ=YEARLY;BYMONTH=3;BYDAY=2SU
DTSTART:20070101T000000
TZOFFSETFROM:-0500
TZOFFSETTO:-0400
TZNAME:Eastern Daylight Time
END:DAYLIGHT
BEGIN:STANDARD
RRULE:FREQ=YEARLY;BYMONTH=11;BYDAY=1SU
DTSTART:20070101T000000
TZOFFSETFROM:-0400
TZOFFSETTO:-0500
TZNAME:Eastern Standard Time
END:STANDARD
END:VTIMEZONE
BEGIN:VEVENT
DTSTART;TZID=America/New_York:20260528T120000
DTEND;TZID=America/New_York:20260528T130000
X-MICROSOFT-CDO-ALLDAYEVENT:FALSE
SUMMARY:SCORE: Business Finance Basics
DESCRIPTION:In this workshop we discuss some banking basics for business including why it is important to have a separate business account from personal and we introduce a basic cash flow worksheet. We discuss how to grow your business through business credit by discussing why it is important to create business credit and how it can help with planning and expansion of a business. Finally\, we discuss the importance of insurance for the business\, no matter the size\, and why that is important.Register: https://www.score.org/orlando/event/business-finance-basics-6
X-ALT-DESC;FMTTYPE=text/html:<!DOCTYPE html><html><head><title></title></head><body aria-disabled="false"><p>In this workshop we discuss some banking basics for business including why it is important to have a separate business account from personal and we introduce a basic cash flow worksheet. We discuss how to grow your business through business credit by discussing why it is important to create business credit and how it can help with planning and expansion of a business. Finally\, we discuss the importance of insurance for the business\, no matter the size\, and why that is important.</p><p>Register:&nbsp\;<a fr-original-style="" href="https://www.score.org/orlando/event/business-finance-basics-6" style="user-select: auto\;">https://www.score.org/orlando/event/business-finance-basics-6</a></p></body></html>
LOCATION:
UID:e.3532.1431391
SEQUENCE:3
DTSTAMP:20260420T183647Z
URL:https://members.belleviewcep.com/eventcalendar/Details/score-business-finance-basics-1694027?sourceTypeId=Hub
END:VEVENT
END:VCALENDAR
