BEGIN:VCALENDAR
VERSION:2.0
PRODID:-//ChamberMaster//Event Calendar 2.0//EN
METHOD:PUBLISH
X-PUBLISHED-TTL:P1H
REFRESH-INTERVAL:P1H
CALSCALE:GREGORIAN
BEGIN:VTIMEZONE
TZID:America/New_York
BEGIN:DAYLIGHT
RRULE:FREQ=YEARLY;BYMONTH=3;BYDAY=2SU
DTSTART:20070101T000000
TZOFFSETFROM:-0500
TZOFFSETTO:-0400
TZNAME:Eastern Daylight Time
END:DAYLIGHT
BEGIN:STANDARD
RRULE:FREQ=YEARLY;BYMONTH=11;BYDAY=1SU
DTSTART:20070101T000000
TZOFFSETFROM:-0400
TZOFFSETTO:-0500
TZNAME:Eastern Standard Time
END:STANDARD
END:VTIMEZONE
BEGIN:VEVENT
DTSTART;TZID=America/New_York:20260516T100000
DTEND;TZID=America/New_York:20260516T110000
X-MICROSOFT-CDO-ALLDAYEVENT:FALSE
SUMMARY:SCORE: Achieve Operational Excellence in Your Business
DESCRIPTION:As a business owner wearing multiple hats\, you want all aspects of your business to be effective and efficient. This webinar offers expert advice on ways that you can fine tune your operations to achieve that goal. We will cover:Process Mapping: Analyze and optimize core business processes.Metrics and KPIs: Establish clear metrics to monitor efficiency and productivity.Continuous Improvement: Adopt Lean\, Six Sigma\, or other methodologies to refine operations.Resource Allocation: Ensure optimal use of time\, talent\, and capital. Register: https://www.score.org/midflorida/event/achieve-operational-excellence-your-business
X-ALT-DESC;FMTTYPE=text/html:<!DOCTYPE html><html><head><title></title></head><body aria-disabled="false"><p style='box-sizing: border-box\; border-width: 0px\; border-style: solid\; border-color: currentcolor\; margin: 0px\; font-family: Lato\, Helvetica\, Arial\, "sans-serif"\; font-weight: 400\; font-size: 20px\; line-height: 28px\; color: rgb(70\, 70\, 72)\; margin-block: 24px\; font-style: normal\; font-variant-ligatures: normal\; font-variant-caps: normal\; letter-spacing: normal\; orphans: 2\; text-align: start\; text-indent: 0px\; text-transform: none\; widows: 2\; word-spacing: 0px\; -webkit-text-stroke-width: 0px\; white-space: normal\; background-color: rgb(255\, 255\, 255)\; text-decoration-thickness: initial\; text-decoration-style: initial\; text-decoration-color: initial\;'><span style="box-sizing: border-box\; border-width: 0px\; border-style: solid\; border-color: currentcolor\;">As a business owner wearing multiple hats\, you want&nbsp\;</span><strong fr-original-style="box-sizing: border-box\; border-width: 0px\; border-style: solid\; border-color: currentcolor\; font-weight: bolder\; margin: 0px\; font-size: 20px\; line-height: 28px\; color: rgb(70\, 70\, 72)\;" style="box-sizing: border-box\; border-width: 0px\; border-style: solid\; border-color: currentcolor\; font-weight: bolder\; margin: 0px\; font-size: 20px\; line-height: 28px\; color: rgb(70\, 70\, 72)\;">all aspects of your business to be effective and efficient</strong><span style="box-sizing: border-box\; border-width: 0px\; border-style: solid\; border-color: currentcolor\;">. This webinar offers expert advice on ways that you can fine tune your operations to achieve that goal. We will cover:</span></p><ul fr-original-style='box-sizing: border-box\; border-width: 0px\; border-style: solid\; border-color: currentcolor\; list-style: disc\; margin: 0px\; padding: 0px 40px\; margin-block: 24px\; color: rgb(0\, 0\, 0)\; font-family: ui-sans-serif\, system-ui\, sans-serif\, "Apple Color Emoji"\, "Segoe UI Emoji"\, "Segoe UI Symbol"\, "Noto Color Emoji"\; font-size: medium\; font-style: normal\; font-variant-ligatures: normal\; font-variant-caps: normal\; font-weight: 400\; letter-spacing: normal\; orphans: 2\; text-align: start\; text-indent: 0px\; text-transform: none\; widows: 2\; word-spacing: 0px\; -webkit-text-stroke-width: 0px\; white-space: normal\; background-color: rgb(255\, 255\, 255)\; text-decoration-thickness: initial\; text-decoration-style: initial\; text-decoration-color: initial\;' style='box-sizing: border-box\; border-width: 0px\; border-style: solid\; border-color: currentcolor\; list-style: disc\; padding: 0px 40px\; color: rgb(0\, 0\, 0)\; font-family: ui-sans-serif\, system-ui\, sans-serif\, "Apple Color Emoji"\, "Segoe UI Emoji"\, "Segoe UI Symbol"\, "Noto Color Emoji"\; font-size: medium\; font-style: normal\; font-variant-ligatures: normal\; font-variant-caps: normal\; font-weight: 400\; letter-spacing: normal\; orphans: 2\; text-align: start\; text-indent: 0px\; text-transform: none\; widows: 2\; word-spacing: 0px\; -webkit-text-stroke-width: 0px\; white-space: normal\; background-color: rgb(255\, 255\, 255)\; text-decoration-thickness: initial\; text-decoration-style: initial\; text-decoration-color: initial\; margin: 0px\; margin-block: 24px\;'><li style='box-sizing: border-box\; border-width: 0px\; border-style: solid\; border-color: currentcolor\; padding-left: 12px\; font-family: Lato\, Helvetica\, Arial\, "sans-serif"\; line-height: 28px\; color: rgb(70\, 70\, 72)\; font-size: 18px\; margin-block-end: 1rem\;'><strong fr-original-style="box-sizing: border-box\; border-width: 0px\; border-style: solid\; border-color: currentcolor\; font-weight: bolder\; margin: 0px\; font-size: 20px\; line-height: 28px\; color: rgb(70\, 70\, 72)\;" style="box-sizing: border-box\; border-width: 0px\; border-style: solid\; border-color: currentcolor\; font-weight: bolder\; margin: 0px\; font-size: 20px\; line-height: 28px\; color: rgb(70\, 70\, 72)\;">Process Mapping:</strong><span style="box-sizing: border-box\; border-width: 0px\; border-style: solid\; border-color: currentcolor\;">&nbsp\;Analyze and optimize core business processes.</span></li><li style='box-sizing: border-box\; border-width: 0px\; border-style: solid\; border-color: currentcolor\; padding-left: 12px\; font-family: Lato\, Helvetica\, Arial\, "sans-serif"\; line-height: 28px\; color: rgb(70\, 70\, 72)\; font-size: 18px\; margin-block-end: 1rem\;'><strong fr-original-style="box-sizing: border-box\; border-width: 0px\; border-style: solid\; border-color: currentcolor\; font-weight: bolder\; margin: 0px\; font-size: 20px\; line-height: 28px\; color: rgb(70\, 70\, 72)\;" style="box-sizing: border-box\; border-width: 0px\; border-style: solid\; border-color: currentcolor\; font-weight: bolder\; margin: 0px\; font-size: 20px\; line-height: 28px\; color: rgb(70\, 70\, 72)\;">Metrics and KPIs:</strong><span style="box-sizing: border-box\; border-width: 0px\; border-style: solid\; border-color: currentcolor\;">&nbsp\;Establish clear metrics to monitor efficiency and productivity.</span></li><li style='box-sizing: border-box\; border-width: 0px\; border-style: solid\; border-color: currentcolor\; padding-left: 12px\; font-family: Lato\, Helvetica\, Arial\, "sans-serif"\; line-height: 28px\; color: rgb(70\, 70\, 72)\; font-size: 18px\; margin-block-end: 1rem\;'><strong fr-original-style="box-sizing: border-box\; border-width: 0px\; border-style: solid\; border-color: currentcolor\; font-weight: bolder\; margin: 0px\; font-size: 20px\; line-height: 28px\; color: rgb(70\, 70\, 72)\;" style="box-sizing: border-box\; border-width: 0px\; border-style: solid\; border-color: currentcolor\; font-weight: bolder\; margin: 0px\; font-size: 20px\; line-height: 28px\; color: rgb(70\, 70\, 72)\;">Continuous Improvement:</strong><span style="box-sizing: border-box\; border-width: 0px\; border-style: solid\; border-color: currentcolor\;">&nbsp\;Adopt Lean\, Six Sigma\, or other methodologies to refine operations.</span></li><li style='box-sizing: border-box\; border-width: 0px\; border-style: solid\; border-color: currentcolor\; padding-left: 12px\; font-family: Lato\, Helvetica\, Arial\, "sans-serif"\; line-height: 28px\; color: rgb(70\, 70\, 72)\; font-size: 18px\;'><strong fr-original-style="box-sizing: border-box\; border-width: 0px\; border-style: solid\; border-color: currentcolor\; font-weight: bolder\; margin: 0px\; font-size: 20px\; line-height: 28px\; color: rgb(70\, 70\, 72)\;" style="box-sizing: border-box\; border-width: 0px\; border-style: solid\; border-color: currentcolor\; font-weight: bolder\; margin: 0px\; font-size: 20px\; line-height: 28px\; color: rgb(70\, 70\, 72)\;">Resource Allocation:</strong><span style="box-sizing: border-box\; border-width: 0px\; border-style: solid\; border-color: currentcolor\;">&nbsp\;Ensure optimal use of time\, talent\, and capital.&nbsp\;</span><span style="box-sizing: border-box\; border-width: 0px\; border-style: solid\; border-color: currentcolor\;">Register: <a fr-original-style="" href="https://www.score.org/midflorida/event/achieve-operational-excellence-your-business" style="user-select: auto\;">https://www.score.org/midflorida/event/achieve-operational-excellence-your-business</a></span></li></ul></body></html>
LOCATION:
UID:e.3532.1431373
SEQUENCE:3
DTSTAMP:20260420T183834Z
URL:https://members.belleviewcep.com/eventcalendar/Details/score-achieve-operational-excellence-in-your-business-1694009?sourceTypeId=Hub
END:VEVENT
END:VCALENDAR
