BEGIN:VCALENDAR
VERSION:2.0
PRODID:-//ChamberMaster//Event Calendar 2.0//EN
METHOD:PUBLISH
X-PUBLISHED-TTL:P1H
REFRESH-INTERVAL:P1H
CALSCALE:GREGORIAN
BEGIN:VTIMEZONE
TZID:America/New_York
BEGIN:DAYLIGHT
RRULE:FREQ=YEARLY;BYMONTH=3;BYDAY=2SU
DTSTART:20070101T000000
TZOFFSETFROM:-0500
TZOFFSETTO:-0400
TZNAME:Eastern Daylight Time
END:DAYLIGHT
BEGIN:STANDARD
RRULE:FREQ=YEARLY;BYMONTH=11;BYDAY=1SU
DTSTART:20070101T000000
TZOFFSETFROM:-0400
TZOFFSETTO:-0500
TZNAME:Eastern Standard Time
END:STANDARD
END:VTIMEZONE
BEGIN:VEVENT
DTSTART;TZID=America/New_York:20260603T100000
DTEND;TZID=America/New_York:20260603T103000
X-MICROSOFT-CDO-ALLDAYEVENT:FALSE
SUMMARY:Ribbon Cutting for Olde Rusty Barn Antiques
DESCRIPTION:Come celebrate Olde Rusty Barn Antiques 1yr anniversary with our ribbon cutting event. Please stop in to see all of our amazing vendors. Stroll through our store and enjoy stepping back to a time in your life you miss and love. We will have snacks\, drinks and several of our vendors on hand to assist with questions and information about the many great treasures they have collected over time.
X-ALT-DESC;FMTTYPE=text/html:<!DOCTYPE html><html><head><title></title></head><body aria-disabled="false"><p>Come celebrate Olde Rusty Barn Antiques 1yr anniversary with our ribbon cutting event. Please stop in to see all of our amazing vendors. Stroll through our store and enjoy stepping back to a time in your life you miss and love. We will have snacks\, drinks and several of our vendors on hand to assist with questions and information about the many great treasures they have collected over time.</p></body></html>
LOCATION:4350 SE 98th Lane Belleview FL 34420
UID:e.3532.1435880
SEQUENCE:3
DTSTAMP:20260420T183135Z
URL:https://members.belleviewcep.com/eventcalendar/Details/ribbon-cutting-for-olde-rusty-barn-antiques-1699700?sourceTypeId=Hub
END:VEVENT
END:VCALENDAR
