BEGIN:VCALENDAR
VERSION:2.0
PRODID:-//ChamberMaster//Event Calendar 2.0//EN
METHOD:PUBLISH
X-PUBLISHED-TTL:P1H
REFRESH-INTERVAL:P1H
CALSCALE:GREGORIAN
BEGIN:VTIMEZONE
TZID:America/New_York
BEGIN:DAYLIGHT
RRULE:FREQ=YEARLY;BYMONTH=3;BYDAY=2SU
DTSTART:20070101T000000
TZOFFSETFROM:-0500
TZOFFSETTO:-0400
TZNAME:Eastern Daylight Time
END:DAYLIGHT
BEGIN:STANDARD
RRULE:FREQ=YEARLY;BYMONTH=11;BYDAY=1SU
DTSTART:20070101T000000
TZOFFSETFROM:-0400
TZOFFSETTO:-0500
TZNAME:Eastern Standard Time
END:STANDARD
END:VTIMEZONE
BEGIN:VEVENT
DTSTART;TZID=America/New_York:20260414T143000
DTEND;TZID=America/New_York:20260414T150000
X-MICROSOFT-CDO-ALLDAYEVENT:FALSE
SUMMARY:Ribbon Cutting for GLO Aesthetics + Wellness Lounge
DESCRIPTION:Join us for the Ribbon Cutting Ceremony celebrating GLO Aesthetics & Wellness! We are excited to welcome the community to experience our luxury medical aesthetics and women's wellness services. Guests will enjoy a tour of the spa\, meet our team\, learn about our advanced skin and wellness treatments\, and celebrate this exciting milestone with us. Light refreshments will be served\, and attendees will have the opportunity to learn about our services including aesthetic facials\, skin rejuvenation treatments\, and women's health wellness programs. We look forward to celebrating with the CEP and the Ocala community!
X-ALT-DESC;FMTTYPE=text/html:<!DOCTYPE html><html><head><title></title></head><body aria-disabled="false"><p>Join us for the Ribbon Cutting Ceremony celebrating GLO Aesthetics &amp\; Wellness! We are excited to welcome the community to experience our luxury medical aesthetics and women&rsquo\;s wellness services. Guests will enjoy a tour of the spa\, meet our team\, learn about our advanced skin and wellness treatments\, and celebrate this exciting milestone with us. Light refreshments will be served\, and attendees will have the opportunity to learn about our services including aesthetic facials\, skin rejuvenation treatments\, and women&rsquo\;s health wellness programs. We look forward to celebrating with the CEP and the Ocala community!</p></body></html>
LOCATION:1925 SW 18th Ct. Suite 109 Ocala FL 34471
UID:e.3532.1415945
SEQUENCE:3
DTSTAMP:20260420T183849Z
URL:https://members.belleviewcep.com/eventcalendar/Details/ribbon-cutting-for-glo-aesthetics-wellness-lounge-1673482?sourceTypeId=Hub
END:VEVENT
END:VCALENDAR
