BEGIN:VCALENDAR
VERSION:2.0
PRODID:-//ChamberMaster//Event Calendar 2.0//EN
METHOD:PUBLISH
X-PUBLISHED-TTL:P1H
REFRESH-INTERVAL:P1H
CALSCALE:GREGORIAN
BEGIN:VTIMEZONE
TZID:America/New_York
BEGIN:DAYLIGHT
RRULE:FREQ=YEARLY;BYMONTH=3;BYDAY=2SU
DTSTART:20070101T000000
TZOFFSETFROM:-0500
TZOFFSETTO:-0400
TZNAME:Eastern Daylight Time
END:DAYLIGHT
BEGIN:STANDARD
RRULE:FREQ=YEARLY;BYMONTH=11;BYDAY=1SU
DTSTART:20070101T000000
TZOFFSETFROM:-0400
TZOFFSETTO:-0500
TZNAME:Eastern Standard Time
END:STANDARD
END:VTIMEZONE
BEGIN:VEVENT
DTSTART;TZID=America/New_York:20260502T090000
DTEND;TZID=America/New_York:20260502T103000
X-MICROSOFT-CDO-ALLDAYEVENT:FALSE
SUMMARY:Marion Mesh May Meetup
DESCRIPTION:Marion Mesh is a community-driven initiative started by the Marion Baptist Association in Ocala\, FL. The goal is simple: to create a free\, resilient\, and decentralized text-messaging network that covers all of Marion County. Using Meshtastic technology\, citizens are building a "mesh" of low-power radio nodes that allow anyone to send and receive text messages and location data without the need for cell towers\, internet\, or a monthly subscription. Community members are getting together to plan and implement a resilient mesh that is available during disasters and other emergency situations.
X-ALT-DESC;FMTTYPE=text/html:<!DOCTYPE html><html><head><title></title></head><body aria-disabled="false"><p><a fr-original-style="" href="https://www.reach.mba/mesh" rel="noopener noreferrer" style="user-select: auto\;" target="_blank"><strong fr-original-style="" style="font-weight: 700\;">Marion Mesh </strong></a>is a community-driven initiative started by the Marion Baptist Association in Ocala\, FL. The goal is simple: to create a free\, resilient\, and decentralized text-messaging network that covers all of Marion County. Using Meshtastic technology\, citizens are building a &quot\;mesh&quot\; of low-power radio nodes that allow anyone to send and receive text messages and location data&mdash\;without the need for cell towers\, internet\, or a monthly subscription. Community members are getting together to plan and implement a resilient mesh that is available during disasters and other emergency situations.</p></body></html>
LOCATION:1520 NE 14th St. Ocala FL 34470
UID:e.3532.1442243
SEQUENCE:3
DTSTAMP:20260420T182755Z
URL:https://members.belleviewcep.com/eventcalendar/Details/marion-mesh-may-meetup-1708117?sourceTypeId=Hub
END:VEVENT
END:VCALENDAR
