BEGIN:VCALENDAR
VERSION:2.0
PRODID:-//ChamberMaster//Event Calendar 2.0//EN
METHOD:PUBLISH
X-PUBLISHED-TTL:P1H
REFRESH-INTERVAL:P1H
CALSCALE:GREGORIAN
BEGIN:VTIMEZONE
TZID:America/New_York
BEGIN:DAYLIGHT
RRULE:FREQ=YEARLY;BYMONTH=3;BYDAY=2SU
DTSTART:20070101T000000
TZOFFSETFROM:-0500
TZOFFSETTO:-0400
TZNAME:Eastern Daylight Time
END:DAYLIGHT
BEGIN:STANDARD
RRULE:FREQ=YEARLY;BYMONTH=11;BYDAY=1SU
DTSTART:20070101T000000
TZOFFSETFROM:-0400
TZOFFSETTO:-0500
TZNAME:Eastern Standard Time
END:STANDARD
END:VTIMEZONE
BEGIN:VEVENT
DTSTART;TZID=America/New_York:20261028T083000
DTEND;TZID=America/New_York:20261028T093000
X-MICROSOFT-CDO-ALLDAYEVENT:FALSE
SUMMARY:CEP 101 Partner Orientation
DESCRIPTION:Are you a new partner or do you need a refresher on how you can maximize your benefits and services offered by the CEP? CEP 101 is a complimentary\, must-attend orientation for all new partners. It also serves as a great refresher for those partners who have not attended one in a while. Join us for a morning coffee break and an opportunity to network with other partners\, find out more about the programs and services of the CEP\, and learn how to maximize your benefits for the best return on your investment! Orientation is held on the last Wednesday each month at 8:30am in our CEP Boardroom located at 310 SE Third Street\, Ocala\, FL 34471.
X-ALT-DESC;FMTTYPE=text/html:Are you a new partner or do you need a refresher on how you can maximize your benefits and services offered by the CEP? CEP 101 is a complimentary\, must-attend orientation for all new partners. It also serves as a great refresher for those partners who have not attended one in a while. Join us for a morning coffee break and an opportunity to network with other partners\, find out more about the programs and services of the CEP\, and learn how to maximize your benefits for the best return on your investment! Orientation is held on the last Wednesday each month at 8:30am in our CEP Boardroom located at 310 SE Third Street\, Ocala\, FL 34471.
LOCATION:310 SE Third Street Ocala FL 34471
UID:e.3532.1428378
SEQUENCE:3
DTSTAMP:20260420T183548Z
URL:https://members.belleviewcep.com/eventcalendar/Details/cep-101-partner-orientation-1689753?sourceTypeId=Hub
END:VEVENT
END:VCALENDAR
